BEGIN:VCALENDAR
VERSION:2.0
PRODID:-//Kasia Mosaics Classes - ECPv6.15.16//NONSGML v1.0//EN
CALSCALE:GREGORIAN
METHOD:PUBLISH
X-ORIGINAL-URL:https://www.kasiamosaicsclasses.com
X-WR-CALDESC:Events for Kasia Mosaics Classes
REFRESH-INTERVAL;VALUE=DURATION:PT1H
X-Robots-Tag:noindex
X-PUBLISHED-TTL:PT1H
BEGIN:VTIMEZONE
TZID:UTC
BEGIN:STANDARD
TZOFFSETFROM:+0000
TZOFFSETTO:+0000
TZNAME:UTC
DTSTART:20150101T000000
END:STANDARD
END:VTIMEZONE
BEGIN:VEVENT
DTSTART;TZID=UTC:20160625T100000
DTEND;TZID=UTC:20160626T170000
DTSTAMP:20260423T130602
CREATED:20160430T045000Z
LAST-MODIFIED:20160430T045001Z
UID:4843-1466848800-1466960400@www.kasiamosaicsclasses.com
SUMMARY:2 Day Flower/Owl/Mandala Class
DESCRIPTION:
URL:https://www.kasiamosaicsclasses.com/event/2-day-flowerowlmandala-class-2/
LOCATION:Kasia Mosaics Studio\, 910 Santa Fe Dr.\, Denver\, CO\, 80204\, United States
CATEGORIES:Flower Class,Mandala Class,Owl Class,Stained Glass Class
END:VEVENT
BEGIN:VEVENT
DTSTART;TZID=UTC:20160521T100000
DTEND;TZID=UTC:20160522T170000
DTSTAMP:20260423T130602
CREATED:20160430T044748Z
LAST-MODIFIED:20160430T045151Z
UID:4842-1463824800-1463936400@www.kasiamosaicsclasses.com
SUMMARY:2 Day Flower/Owl/Mandala Class
DESCRIPTION:
URL:https://www.kasiamosaicsclasses.com/event/2-day-flowerowlmandala-class/
LOCATION:Kasia Mosaics Studio\, 910 Santa Fe Dr.\, Denver\, CO\, 80204\, United States
CATEGORIES:Flower Class,Mandala Class,Owl Class,Stained Glass Class
END:VEVENT
END:VCALENDAR